BEGIN:VCALENDAR
VERSION:2.0
PRODID:-//LAGA Wittenberge 2027 - ECPv6.15.20//NONSGML v1.0//EN
CALSCALE:GREGORIAN
METHOD:PUBLISH
X-WR-CALNAME:LAGA Wittenberge 2027
X-ORIGINAL-URL:https://www.laga-wittenberge.de
X-WR-CALDESC:Veranstaltungen für LAGA Wittenberge 2027
REFRESH-INTERVAL;VALUE=DURATION:PT1H
X-Robots-Tag:noindex
X-PUBLISHED-TTL:PT1H
BEGIN:VTIMEZONE
TZID:Europe/Berlin
BEGIN:DAYLIGHT
TZOFFSETFROM:+0100
TZOFFSETTO:+0200
TZNAME:CEST
DTSTART:20250330T010000
END:DAYLIGHT
BEGIN:STANDARD
TZOFFSETFROM:+0200
TZOFFSETTO:+0100
TZNAME:CET
DTSTART:20251026T010000
END:STANDARD
BEGIN:DAYLIGHT
TZOFFSETFROM:+0100
TZOFFSETTO:+0200
TZNAME:CEST
DTSTART:20260329T010000
END:DAYLIGHT
BEGIN:STANDARD
TZOFFSETFROM:+0200
TZOFFSETTO:+0100
TZNAME:CET
DTSTART:20261025T010000
END:STANDARD
BEGIN:DAYLIGHT
TZOFFSETFROM:+0100
TZOFFSETTO:+0200
TZNAME:CEST
DTSTART:20270328T010000
END:DAYLIGHT
BEGIN:STANDARD
TZOFFSETFROM:+0200
TZOFFSETTO:+0100
TZNAME:CET
DTSTART:20271031T010000
END:STANDARD
END:VTIMEZONE
BEGIN:VEVENT
DTSTART;TZID=Europe/Berlin:20260507T173000
DTEND;TZID=Europe/Berlin:20260507T203000
DTSTAMP:20260419T191921
CREATED:20260418T024206Z
LAST-MODIFIED:20260418T024206Z
UID:10004944-1778175000-1778185800@www.laga-wittenberge.de
SUMMARY:Tag des Wanders
DESCRIPTION:Liebe Wanderfreunde\, am Donnerstag\, den 07. Mai ist es wieder soweit – der vorverlegte "Tag des Wanderns" lädt dazu ein\, die Natur in ihrer vollen Pracht zu erleben. Wir möchten Sie herzlich dazu einladen\, gemeinsam mit uns einen unvergesslichen Abend an den Brausebachstaus zu verbringen. Unsere ca. 8\,5 Kilometer lange geführte Rundwanderung verläuft von Zootzen entlang an den drei Brausebachstaus durch eine landschaftlich reizvolle Natur\, die von Bibern „mitgestaltet“ wird. Über die ehemalige Brausebachmühle in Neuendorf geht es nach Dossow\, wo wir uns im Weidenhof Simon stärken werden\, bevor es nach Zootzen zurück geht.  \nDie Tour bietet:  \n eine vielfältige Tier- und Pflanzenwelt                                                                                                                                                                               Einblicke in die Geschichte der Brausebachstaue und der Brausebachmühle                                                                                                                 Informationen darüber\, warum der Brausebachweg Teil des Pilgerwegs ist                                                                                                                       idyllische Aussichtspunkte und ruhige Passagen zum Innehalten \nGenießen Sie die Ruhe und die Stille fernab des Alltags und lassen Sie sich von der Schönheit der Umgebung verzaubern.\nDer Preis für die Teilnahme beträgt 15\,00 € pro Person inkl. Imbiss im Weidenhof. \nWir bitten um vorherige Anmeldung\, da die Teilnehmerzahl begrenzt ist. \nTreffpunkt: 17:30 Uhr in Ortsausgang Zootzen in Richtung Gadow – direkt am Brausebachstau                                                                         (Parkplatz und Informationstafel mit Wanderwegekarte) \nKontakt\nTourismusverein Wittstocker Land e.V. \nTel.: +49 03394429553\nE-Mail:
URL:https://www.laga-wittenberge.de/event/tag-des-wanders/
LOCATION:Zootzen Ortsausgang in Richtung Gadow am Brausebachstau\, Zootzener Straße
CATEGORIES:Exkursion / Wanderung
ATTACH;FMTTYPE=image/png:https://www.laga-wittenberge.de/wp-content/uploads/2026/04/item_1114823_pic_1_orig.png
END:VEVENT
END:VCALENDAR