BEGIN:VCALENDAR
VERSION:2.0
PRODID:-//LAGA Wittenberge 2027 - ECPv6.15.20//NONSGML v1.0//EN
CALSCALE:GREGORIAN
METHOD:PUBLISH
X-ORIGINAL-URL:https://www.laga-wittenberge.de
X-WR-CALDESC:Veranstaltungen für LAGA Wittenberge 2027
REFRESH-INTERVAL;VALUE=DURATION:PT1H
X-Robots-Tag:noindex
X-PUBLISHED-TTL:PT1H
BEGIN:VTIMEZONE
TZID:Europe/Berlin
BEGIN:DAYLIGHT
TZOFFSETFROM:+0100
TZOFFSETTO:+0200
TZNAME:CEST
DTSTART:20250330T010000
END:DAYLIGHT
BEGIN:STANDARD
TZOFFSETFROM:+0200
TZOFFSETTO:+0100
TZNAME:CET
DTSTART:20251026T010000
END:STANDARD
BEGIN:DAYLIGHT
TZOFFSETFROM:+0100
TZOFFSETTO:+0200
TZNAME:CEST
DTSTART:20260329T010000
END:DAYLIGHT
BEGIN:STANDARD
TZOFFSETFROM:+0200
TZOFFSETTO:+0100
TZNAME:CET
DTSTART:20261025T010000
END:STANDARD
BEGIN:DAYLIGHT
TZOFFSETFROM:+0100
TZOFFSETTO:+0200
TZNAME:CEST
DTSTART:20270328T010000
END:DAYLIGHT
BEGIN:STANDARD
TZOFFSETFROM:+0200
TZOFFSETTO:+0100
TZNAME:CET
DTSTART:20271031T010000
END:STANDARD
END:VTIMEZONE
BEGIN:VEVENT
DTSTART;TZID=Europe/Berlin:20260621T170000
DTEND;TZID=Europe/Berlin:20260621T190000
DTSTAMP:20260421T113834
CREATED:20260326T034209Z
LAST-MODIFIED:20260326T034209Z
UID:10004702-1782061200-1782068400@www.laga-wittenberge.de
SUMMARY:Mittsommerkonzert
DESCRIPTION:mit dem Wusterhausener Gospelchor \nKontakt\nEvangelisches Pfarramt Wusterhausen \nTel.: +49 33979 14767\nE-Mail:
URL:https://www.laga-wittenberge.de/event/mittsommerkonzert/
LOCATION:Stadtkirche St. Peter und Paul\, Sankt-Petri-Straße 7\, Wusterhausen/Dosse\, 16868
CATEGORIES:Klassisches Konzert / Oper
ATTACH;FMTTYPE=image/jpeg:https://www.laga-wittenberge.de/wp-content/uploads/2026/03/item_1111323_pic_1_orig.jpg
END:VEVENT
BEGIN:VEVENT
DTSTART;TZID=Europe/Berlin:20260905T170000
DTEND;TZID=Europe/Berlin:20260905T190000
DTSTAMP:20260421T113834
CREATED:20260410T024219Z
LAST-MODIFIED:20260410T024219Z
UID:10004931-1788627600-1788634800@www.laga-wittenberge.de
SUMMARY:Wusterhausener Musiksommer
DESCRIPTION:Mc Shoemaker-Konzert \nKontakt\nEvangelisches Pfarramt Wusterhausen \nTel.: +49 33979 14767\nE-Mail:
URL:https://www.laga-wittenberge.de/event/wusterhausener-musiksommer/
LOCATION:Stadtkirche St. Peter und Paul\, Sankt-Petri-Straße 7\, Wusterhausen/Dosse\, 16868
CATEGORIES:Klassisches Konzert / Oper
ATTACH;FMTTYPE=image/jpeg:https://www.laga-wittenberge.de/wp-content/uploads/2026/04/item_1113606_pic_1_orig.jpg
END:VEVENT
END:VCALENDAR