BEGIN:VCALENDAR
VERSION:2.0
PRODID:-//LAGA Wittenberge 2027 - ECPv6.15.20//NONSGML v1.0//EN
CALSCALE:GREGORIAN
METHOD:PUBLISH
X-WR-CALNAME:LAGA Wittenberge 2027
X-ORIGINAL-URL:https://www.laga-wittenberge.de
X-WR-CALDESC:Veranstaltungen für LAGA Wittenberge 2027
REFRESH-INTERVAL;VALUE=DURATION:PT1H
X-Robots-Tag:noindex
X-PUBLISHED-TTL:PT1H
BEGIN:VTIMEZONE
TZID:Europe/Berlin
BEGIN:DAYLIGHT
TZOFFSETFROM:+0100
TZOFFSETTO:+0200
TZNAME:CEST
DTSTART:20250330T010000
END:DAYLIGHT
BEGIN:STANDARD
TZOFFSETFROM:+0200
TZOFFSETTO:+0100
TZNAME:CET
DTSTART:20251026T010000
END:STANDARD
BEGIN:DAYLIGHT
TZOFFSETFROM:+0100
TZOFFSETTO:+0200
TZNAME:CEST
DTSTART:20260329T010000
END:DAYLIGHT
BEGIN:STANDARD
TZOFFSETFROM:+0200
TZOFFSETTO:+0100
TZNAME:CET
DTSTART:20261025T010000
END:STANDARD
BEGIN:DAYLIGHT
TZOFFSETFROM:+0100
TZOFFSETTO:+0200
TZNAME:CEST
DTSTART:20270328T010000
END:DAYLIGHT
BEGIN:STANDARD
TZOFFSETFROM:+0200
TZOFFSETTO:+0100
TZNAME:CET
DTSTART:20271031T010000
END:STANDARD
END:VTIMEZONE
BEGIN:VEVENT
DTSTART;TZID=Europe/Berlin:20260607T100000
DTEND;TZID=Europe/Berlin:20260607T170000
DTSTAMP:20260421T160147
CREATED:20260311T022110Z
LAST-MODIFIED:20260311T022111Z
UID:10004321-1780826400-1780851600@www.laga-wittenberge.de
SUMMARY:Oldtimertreffen auf der Wässering
DESCRIPTION:Am 7. Juni findet auf dem Parkplatz Wässering in der Graf-von-der-Schulenburg-Straße in Kyritz das 4. Oldtimer-Knattern statt. Es werden wie in den vergangenen Jahren dutzende historische Zwei- und Vierrad-Schmuckstücke erwartet. Auch für Spaß für die Kleinsten und das leibliche Wohl ist gesorgt. \nKontakt\nKultur- und Tourismusbüro Kyritz an der Knatter \nTel.: +49 33971 85255\nE-Mail: tourismus@kyritz.de
URL:https://www.laga-wittenberge.de/event/oldtimertreffen-auf-der-waessering/
LOCATION:Parkplatz Wässering\, Graf-von-der-Schulenburg-Straße\, Kyritz\, 16866
CATEGORIES:Ausstellung
ATTACH;FMTTYPE=image/jpeg:https://www.laga-wittenberge.de/wp-content/uploads/2026/01/item_1100189_pic_1_orig.jpg
END:VEVENT
END:VCALENDAR