BEGIN:VCALENDAR
VERSION:2.0
PRODID:-//LAGA Wittenberge 2027 - ECPv6.15.20//NONSGML v1.0//EN
CALSCALE:GREGORIAN
METHOD:PUBLISH
X-WR-CALNAME:LAGA Wittenberge 2027
X-ORIGINAL-URL:https://www.laga-wittenberge.de
X-WR-CALDESC:Veranstaltungen für LAGA Wittenberge 2027
REFRESH-INTERVAL;VALUE=DURATION:PT1H
X-Robots-Tag:noindex
X-PUBLISHED-TTL:PT1H
BEGIN:VTIMEZONE
TZID:Europe/Berlin
BEGIN:DAYLIGHT
TZOFFSETFROM:+0100
TZOFFSETTO:+0200
TZNAME:CEST
DTSTART:20250330T010000
END:DAYLIGHT
BEGIN:STANDARD
TZOFFSETFROM:+0200
TZOFFSETTO:+0100
TZNAME:CET
DTSTART:20251026T010000
END:STANDARD
BEGIN:DAYLIGHT
TZOFFSETFROM:+0100
TZOFFSETTO:+0200
TZNAME:CEST
DTSTART:20260329T010000
END:DAYLIGHT
BEGIN:STANDARD
TZOFFSETFROM:+0200
TZOFFSETTO:+0100
TZNAME:CET
DTSTART:20261025T010000
END:STANDARD
BEGIN:DAYLIGHT
TZOFFSETFROM:+0100
TZOFFSETTO:+0200
TZNAME:CEST
DTSTART:20270328T010000
END:DAYLIGHT
BEGIN:STANDARD
TZOFFSETFROM:+0200
TZOFFSETTO:+0100
TZNAME:CET
DTSTART:20271031T010000
END:STANDARD
END:VTIMEZONE
BEGIN:VEVENT
DTSTART;TZID=Europe/Berlin:20260403T193000
DTEND;TZID=Europe/Berlin:20260403T193000
DTSTAMP:20260421T172125
CREATED:20260402T024203Z
LAST-MODIFIED:20260402T024203Z
UID:10004167-1775244600-1775244600@www.laga-wittenberge.de
SUMMARY:Waterloo - the Abba Show & Streichquartett
DESCRIPTION:Die Band 4 SWƎDES feiert in diesem Jahr ihr 19-jähriges Bestehen. Seit ihrer Gründung im Jahr 2006 – noch unter dem Namen Abba Review – hat sich die Band als eine der führenden Abba Tribute-Bands etabliert. Mit ihrem einzigartigen Stil und energiegeladenen Live-Auftritten begeistert 4 SWƎDES Fans in ganz Europa. Im Sommer 2023 erfolgte aufgrund von Copyright Änderungen der Polar Music Sweden die Umbenennung in den neuen Bandnamen 4 SWƎDES. Die Band besteht aus sechs Musikern aus Deutschland\, Schweden\, Jamaika\, Polen und England\, die eine tiefe Leidenschaft für die Musik von ABBA teilen. Gemeinsam bringen sie die ikonischen Hits der legendären schwedischen Band auf die Bühne und entführen das Publikum in eine nostalgische und emotionsgeladene Reise\, die zum Tanzen einlädt. Was 4 SWƎDES besonders macht\, sind ihre mitreißenden Live-Interpretationen der Songs. Jeder Titel ist sorgfältig choreografiert und bietet nicht nur ein bemerkenswertes Hörerlebnis. \nKontakt\nKonzertbüro Rheydt \nTel.: +49 2166 3103574\nE-Mail: info@konzertbuero-rheydt.de
URL:https://www.laga-wittenberge.de/event/waterloo-the-abba-show-streichquartett/
LOCATION:Kulturhaus Pritzwalk\, Kietz 63\, Pritzwalk\, 16928
CATEGORIES:Rock / Pop / Jazz
ATTACH;FMTTYPE=image/jpeg:https://www.laga-wittenberge.de/wp-content/uploads/2025/12/item_794186_pic_1_orig.jpg
END:VEVENT
END:VCALENDAR