BEGIN:VCALENDAR
VERSION:2.0
PRODID:-//LAGA Wittenberge 2027 - ECPv6.15.20//NONSGML v1.0//EN
CALSCALE:GREGORIAN
METHOD:PUBLISH
X-ORIGINAL-URL:https://www.laga-wittenberge.de
X-WR-CALDESC:Veranstaltungen für LAGA Wittenberge 2027
REFRESH-INTERVAL;VALUE=DURATION:PT1H
X-Robots-Tag:noindex
X-PUBLISHED-TTL:PT1H
BEGIN:VTIMEZONE
TZID:Europe/Berlin
BEGIN:DAYLIGHT
TZOFFSETFROM:+0100
TZOFFSETTO:+0200
TZNAME:CEST
DTSTART:20250330T010000
END:DAYLIGHT
BEGIN:STANDARD
TZOFFSETFROM:+0200
TZOFFSETTO:+0100
TZNAME:CET
DTSTART:20251026T010000
END:STANDARD
BEGIN:DAYLIGHT
TZOFFSETFROM:+0100
TZOFFSETTO:+0200
TZNAME:CEST
DTSTART:20260329T010000
END:DAYLIGHT
BEGIN:STANDARD
TZOFFSETFROM:+0200
TZOFFSETTO:+0100
TZNAME:CET
DTSTART:20261025T010000
END:STANDARD
BEGIN:DAYLIGHT
TZOFFSETFROM:+0100
TZOFFSETTO:+0200
TZNAME:CEST
DTSTART:20270328T010000
END:DAYLIGHT
BEGIN:STANDARD
TZOFFSETFROM:+0200
TZOFFSETTO:+0100
TZNAME:CET
DTSTART:20271031T010000
END:STANDARD
END:VTIMEZONE
BEGIN:VEVENT
DTSTART;TZID=Europe/Berlin:20260621T160000
DTEND;TZID=Europe/Berlin:20260621T220000
DTSTAMP:20260421T114614
CREATED:20260311T022116Z
LAST-MODIFIED:20260311T022117Z
UID:10004572-1782057600-1782079200@www.laga-wittenberge.de
SUMMARY:Fête de la Musique
DESCRIPTION:Bei der Fête de la Musique wird die Wittstocker Innenstadt am 21. Juni 2026 wieder mit Musik erfüllt sein. \nAm längsten Tag des Jahres können Sie sich an den unterschiedlichen Auftrittsorten auf eine musikalische Reise begeben.  \nDie Fête de la Musique als international gefeiertes Straßenmusik-Fest hat sich seit seiner Einführung in Wittstock/Dosse im Jahr 2019 auch hier etabliert und wird sehr gut angenommen. \nDu bist Kultur- oder Musikschaffender und hast Lust aufzutreten?   \nDann werde Teil der Fête de la Musique in Wittstock/Dosse und bewirb dich unter fete@stadt-wittstock.de \nWir freuen uns auf ein buntes und abwechslungsreiches Musikfest! \nKontakt\nKulturmanagement Wittstock \nTel.: +49 03394 – 429 556\nE-Mail: s.wacker@stadt-wittstock.de
URL:https://www.laga-wittenberge.de/event/fete-de-la-musique/
LOCATION:Innenstadt\, Paul-Lincke Platz\, Wittenberge\, 19322
ATTACH;FMTTYPE=image/png:https://www.laga-wittenberge.de/wp-content/uploads/2026/02/item_1106604_pic_1_orig.png
END:VEVENT
END:VCALENDAR