BEGIN:VCALENDAR
VERSION:2.0
PRODID:-//LAGA Wittenberge 2027 - ECPv6.15.20//NONSGML v1.0//EN
CALSCALE:GREGORIAN
METHOD:PUBLISH
X-ORIGINAL-URL:https://www.laga-wittenberge.de
X-WR-CALDESC:Veranstaltungen für LAGA Wittenberge 2027
REFRESH-INTERVAL;VALUE=DURATION:PT1H
X-Robots-Tag:noindex
X-PUBLISHED-TTL:PT1H
BEGIN:VTIMEZONE
TZID:Europe/Berlin
BEGIN:DAYLIGHT
TZOFFSETFROM:+0100
TZOFFSETTO:+0200
TZNAME:CEST
DTSTART:20250330T010000
END:DAYLIGHT
BEGIN:STANDARD
TZOFFSETFROM:+0200
TZOFFSETTO:+0100
TZNAME:CET
DTSTART:20251026T010000
END:STANDARD
BEGIN:DAYLIGHT
TZOFFSETFROM:+0100
TZOFFSETTO:+0200
TZNAME:CEST
DTSTART:20260329T010000
END:DAYLIGHT
BEGIN:STANDARD
TZOFFSETFROM:+0200
TZOFFSETTO:+0100
TZNAME:CET
DTSTART:20261025T010000
END:STANDARD
BEGIN:DAYLIGHT
TZOFFSETFROM:+0100
TZOFFSETTO:+0200
TZNAME:CEST
DTSTART:20270328T010000
END:DAYLIGHT
BEGIN:STANDARD
TZOFFSETFROM:+0200
TZOFFSETTO:+0100
TZNAME:CET
DTSTART:20271031T010000
END:STANDARD
END:VTIMEZONE
BEGIN:VEVENT
DTSTART;TZID=Europe/Berlin:20260621T110000
DTEND;TZID=Europe/Berlin:20260622T100000
DTSTAMP:20260419T221958
CREATED:20260418T024213Z
LAST-MODIFIED:20260418T024213Z
UID:10004438-1782039600-1782122400@www.laga-wittenberge.de
SUMMARY:Fête de la Musique LENZEN
DESCRIPTION:„Fête de la Musique“ \, L E N Z E N\, "Das Fest der Musik" \nVon 11 bis 11 – Vom See bis zum Fluss  und   q u e r    d u r c h   d i e   S t a d t \nvon morgens bis in die Nacht werden quer durch die Stadt an elf verschiedenen Orten Musiker auftreten\, keine große Bühnenshow\, sondern kleine Straßenkonzerte. Zum Schluss sammeln sich die Musiker und Gäste am Hafen an der Elbe und feiern mit Musik bis zum Sonnenuntergang. \nKontakt\nGalerie SEETOR.art \nTel.: +49 38792 913821\nE-Mail: kontakt@seetor.art
URL:https://www.laga-wittenberge.de/event/fete-de-la-musique-lenzen/
LOCATION:Fête de la Musique\, Lenzen
CATEGORIES:Klassisches Konzert / Oper
ATTACH;FMTTYPE=image/jpeg:https://www.laga-wittenberge.de/wp-content/uploads/2026/02/item_1103085_pic_1_orig.jpg
END:VEVENT
END:VCALENDAR