BEGIN:VCALENDAR
VERSION:2.0
PRODID:-//LAGA Wittenberge 2027 - ECPv6.15.20//NONSGML v1.0//EN
CALSCALE:GREGORIAN
METHOD:PUBLISH
X-WR-CALNAME:LAGA Wittenberge 2027
X-ORIGINAL-URL:https://www.laga-wittenberge.de
X-WR-CALDESC:Veranstaltungen für LAGA Wittenberge 2027
REFRESH-INTERVAL;VALUE=DURATION:PT1H
X-Robots-Tag:noindex
X-PUBLISHED-TTL:PT1H
BEGIN:VTIMEZONE
TZID:Europe/Berlin
BEGIN:DAYLIGHT
TZOFFSETFROM:+0100
TZOFFSETTO:+0200
TZNAME:CEST
DTSTART:20250330T010000
END:DAYLIGHT
BEGIN:STANDARD
TZOFFSETFROM:+0200
TZOFFSETTO:+0100
TZNAME:CET
DTSTART:20251026T010000
END:STANDARD
BEGIN:DAYLIGHT
TZOFFSETFROM:+0100
TZOFFSETTO:+0200
TZNAME:CEST
DTSTART:20260329T010000
END:DAYLIGHT
BEGIN:STANDARD
TZOFFSETFROM:+0200
TZOFFSETTO:+0100
TZNAME:CET
DTSTART:20261025T010000
END:STANDARD
BEGIN:DAYLIGHT
TZOFFSETFROM:+0100
TZOFFSETTO:+0200
TZNAME:CEST
DTSTART:20270328T010000
END:DAYLIGHT
BEGIN:STANDARD
TZOFFSETFROM:+0200
TZOFFSETTO:+0100
TZNAME:CET
DTSTART:20271031T010000
END:STANDARD
END:VTIMEZONE
BEGIN:VEVENT
DTSTART;TZID=Europe/Berlin:20260328T190000
DTEND;TZID=Europe/Berlin:20260328T210000
DTSTAMP:20260419T204438
CREATED:20260311T022042Z
LAST-MODIFIED:20260311T022043Z
UID:10004476-1774724400-1774731600@www.laga-wittenberge.de
SUMMARY:Jazz-Night mit Esther Kaiser und Axel Fischbacher
DESCRIPTION:Erleben Sie ein außergewöhnliches Quartett\, das drei Generationen und vier starke Persönlichkeiten an Gesang\, Gitarre\, Bass und Schlagzeug vereint. Hier verschmelzen Erfahrung und junge Energie zu einer packenden musikalischen Einheit auf Augenhöhe. \nEs hat gute Gründe\, warum bei diesem Album die Namen aller Beteiligten gleichberechtigt gelistet sind. „Moving Times“ ist das Resultat echter  Teamarbeit – die erste Produktion einer frisch formierten Gruppe\, in der alle auf Augenhöhe agieren. Was schon deshalb nicht selbstverständlich ist\, weil mit Sängerin Esther Kaiser und Gitarrist Axel Fischbacher zwei gestandene Kapazitäten des deutschen Jazzgeschehens vertreten sind\, die seit vielen Jahren unabhängig voneinander eigene Bands leiten und die eine Vielzahl eigener Alben veröffentlicht haben. Die beiden gehören verschiedenen Generationen an – Bassistin Genevieve O’Driscoll und Drummer/Vibraphonist Michael Knippschild repräsentieren eine weitere. Das bedeutet: drei Generationen\, zwei Frauen und zwei Männer – und es passt\, als dürfte es gar nicht anders sein. \nKontakt\nArtHotel Kiebitzberg® \nTel.: +49\nE-Mail:
URL:https://www.laga-wittenberge.de/event/jazz-night-mit-esther-kaiser-und-axel-fischbacher/
LOCATION:ARTHOTEL Kiebitzberg\, Schönberger Weg 6\, Havelberg\, 39539
CATEGORIES:Rock / Pop / Jazz
ATTACH;FMTTYPE=image/png:https://www.laga-wittenberge.de/wp-content/uploads/2026/02/item_1103522_pic_1_orig.png
END:VEVENT
END:VCALENDAR