BEGIN:VCALENDAR
VERSION:2.0
PRODID:-//LAGA Wittenberge 2027 - ECPv6.15.20//NONSGML v1.0//EN
CALSCALE:GREGORIAN
METHOD:PUBLISH
X-ORIGINAL-URL:https://www.laga-wittenberge.de
X-WR-CALDESC:Veranstaltungen für LAGA Wittenberge 2027
REFRESH-INTERVAL;VALUE=DURATION:PT1H
X-Robots-Tag:noindex
X-PUBLISHED-TTL:PT1H
BEGIN:VTIMEZONE
TZID:Europe/Berlin
BEGIN:DAYLIGHT
TZOFFSETFROM:+0100
TZOFFSETTO:+0200
TZNAME:CEST
DTSTART:20250330T010000
END:DAYLIGHT
BEGIN:STANDARD
TZOFFSETFROM:+0200
TZOFFSETTO:+0100
TZNAME:CET
DTSTART:20251026T010000
END:STANDARD
BEGIN:DAYLIGHT
TZOFFSETFROM:+0100
TZOFFSETTO:+0200
TZNAME:CEST
DTSTART:20260329T010000
END:DAYLIGHT
BEGIN:STANDARD
TZOFFSETFROM:+0200
TZOFFSETTO:+0100
TZNAME:CET
DTSTART:20261025T010000
END:STANDARD
BEGIN:DAYLIGHT
TZOFFSETFROM:+0100
TZOFFSETTO:+0200
TZNAME:CEST
DTSTART:20270328T010000
END:DAYLIGHT
BEGIN:STANDARD
TZOFFSETFROM:+0200
TZOFFSETTO:+0100
TZNAME:CET
DTSTART:20271031T010000
END:STANDARD
END:VTIMEZONE
BEGIN:VEVENT
DTSTART;TZID=Europe/Berlin:20261003T061500
DTEND;TZID=Europe/Berlin:20261003T083000
DTSTAMP:20260421T114129
CREATED:20260402T024217Z
LAST-MODIFIED:20260402T024217Z
UID:10004183-1791008100-1791016200@www.laga-wittenberge.de
SUMMARY:RangerTour: MorgenMoor
DESCRIPTION:Vogelzug: Noch im Dunkeln geht es im dörflichen Laternenlicht in einer kurzen Wanderung ans Moor. Begleitet von fernen Kranichrufen und Gänsegeschnatter. Nebel liegt über den Moorwiesen. Am Beobachtungspunkt angekommen\, erstes Morgenrot am Horizont und Geräusche aus dem Schilf\, die wie Wasser plätschern klingen. Wenig später löst sich das Rätsel. Tausende Stare steigen auf\, gut versteckt im Röhricht\, hat sie nur ihr Gezwitscher verraten. Auf dem Wasser werden die Kraniche laut. Kontakttrompeten kurz vor dem Abflug. Vom See klingen tausende Gänse herüber. Ob sie wohl in unsere Richtung fliegen? Dann der große Moment. Im goldroten Morgenlicht erheben sich die Kraniche aus dem Nebelschwadigen Flachwasser und ziehen in langen Ketten nordostwärts. Beinahe über die Köpfe der Beobachtenden hinweg. \nWarme Kleidung\, festes Schuhwerk und Fernglas empfohlen. \nAnmeldeschluss: 01.10.2026 \nTeilnehmer*innen: Min. 5\, max. 15 \nDiese Führung ist ein Angebot der "Ranger-und Erlebnistouren". \nKontakt\nNaturwacht Brandenburg\nRicarda Rath\nTel.: +49 38792 1701\nE-Mail: lenzen@naturwacht.de
URL:https://www.laga-wittenberge.de/event/rangertour-morgenmoor/
LOCATION:An der Kirche in Rambow am See\, Dorfstraße\, Rambow am See\, 19309
CATEGORIES:Lust auf NaTour
ATTACH;FMTTYPE=image/jpeg:https://www.laga-wittenberge.de/wp-content/uploads/2025/12/item_940029_pic_1_orig.jpg
END:VEVENT
BEGIN:VEVENT
DTSTART;TZID=Europe/Berlin:20261011T171500
DTEND;TZID=Europe/Berlin:20261011T193000
DTSTAMP:20260421T114129
CREATED:20260402T024217Z
LAST-MODIFIED:20260402T024217Z
UID:10004184-1791738900-1791747000@www.laga-wittenberge.de
SUMMARY:RangerTour:Kraniche im Abendlicht
DESCRIPTION:Vogelzug: Herbstzeit ist Kranichzeit. Auf ihrem Zug in die südlichen Winterquartiere überqueren die imposanten Großvögel die brandenburgische Flusslandschaft und halten Rast. Am Tage auf abgeernteten Maisstoppelfeldern\, in der Nacht auf flachen Gewässern des Biosphärenreservats. Allabendlich fliegen die großen Grauen an ihren Schlafplätzen ein um gut geschützt die Nacht zu verbringen. Auch am Rambower Moor vollzieht sich das Herbstschauspiel. Hunderte bis tausende Kraniche gleiten laut trompetend über die Köpfe der Beobachter*innen hinweg und landen trudelnd in den Feuchtwiesen. Ein unvergessliches Schauspiel für alle Interessierten. \nFestes Schuhwerk und Fernglas empfohlen.\nAnmeldeschluss: Am Freitag vor der Veranstaltung bis 16:00 Uhr\nTeilnehmer*innen: bis zu 20 \nDiese Führung ist ein Angebot der "Ranger-und Erlebnistouren". \nKontakt\nNaturwacht Lenzen\nMarion Korsch\nTel.: +49 38792 507646\nE-Mail: marion.korsch@naturwacht.de
URL:https://www.laga-wittenberge.de/event/rangertourkraniche-im-abendlicht/
LOCATION:An der Kirche in Rambow am See\, Dorfstraße\, Rambow am See\, 19309
CATEGORIES:Lust auf NaTour
ATTACH;FMTTYPE=image/jpeg:https://www.laga-wittenberge.de/wp-content/uploads/2025/12/item_939955_pic_1_orig.jpg
END:VEVENT
BEGIN:VEVENT
DTSTART;TZID=Europe/Berlin:20261017T170000
DTEND;TZID=Europe/Berlin:20261017T191500
DTSTAMP:20260421T114129
CREATED:20260402T024217Z
LAST-MODIFIED:20260402T024217Z
UID:10004185-1792256400-1792264500@www.laga-wittenberge.de
SUMMARY:RangerTour:Kraniche im Abendlicht
DESCRIPTION:Vogelzug: Herbstzeit ist Kranichzeit. Auf ihrem Zug in die südlichen Winterquartiere überqueren die imposanten Großvögel die brandenburgische Flusslandschaft und halten Rast. Am Tage auf abgeernteten Maisstoppelfeldern\, in der Nacht auf flachen Gewässern des Biosphärenreservats. Allabendlich fliegen die großen Grauen an ihren Schlafplätzen ein um gut geschützt die Nacht zu verbringen. Auch am Rambower Moor vollzieht sich das Herbstschauspiel. Hunderte bis tausende Kraniche gleiten laut trompetend über die Köpfe der Beobachter*innen hinweg und landen trudelnd in den Feuchtwiesen. Ein unvergessliches Schauspiel für alle Interessierten. \nFestes Schuhwerk und Fernglas empfohlen.\nAnmeldeschluss: Am Freitag vor der Veranstaltung bis 16:00 Uhr\nTeilnehmer*innen: bis zu 20 \nDiese Führung ist ein Angebot der "Ranger-und Erlebnistouren". \nKontakt\nNaturwacht Lenzen\nMarion Korsch\nTel.: +49 38792 507646\nE-Mail: marion.korsch@naturwacht.de
URL:https://www.laga-wittenberge.de/event/rangertourkraniche-im-abendlicht-2/
LOCATION:An der Kirche in Rambow am See\, Dorfstraße\, Rambow am See\, 19309
CATEGORIES:Lust auf NaTour
ATTACH;FMTTYPE=image/jpeg:https://www.laga-wittenberge.de/wp-content/uploads/2025/12/item_939955_pic_1_orig.jpg
END:VEVENT
END:VCALENDAR