BEGIN:VCALENDAR
VERSION:2.0
PRODID:-//LAGA Wittenberge 2027 - ECPv6.15.20//NONSGML v1.0//EN
CALSCALE:GREGORIAN
METHOD:PUBLISH
X-ORIGINAL-URL:https://www.laga-wittenberge.de
X-WR-CALDESC:Veranstaltungen für LAGA Wittenberge 2027
REFRESH-INTERVAL;VALUE=DURATION:PT1H
X-Robots-Tag:noindex
X-PUBLISHED-TTL:PT1H
BEGIN:VTIMEZONE
TZID:Europe/Berlin
BEGIN:DAYLIGHT
TZOFFSETFROM:+0100
TZOFFSETTO:+0200
TZNAME:CEST
DTSTART:20250330T010000
END:DAYLIGHT
BEGIN:STANDARD
TZOFFSETFROM:+0200
TZOFFSETTO:+0100
TZNAME:CET
DTSTART:20251026T010000
END:STANDARD
BEGIN:DAYLIGHT
TZOFFSETFROM:+0100
TZOFFSETTO:+0200
TZNAME:CEST
DTSTART:20260329T010000
END:DAYLIGHT
BEGIN:STANDARD
TZOFFSETFROM:+0200
TZOFFSETTO:+0100
TZNAME:CET
DTSTART:20261025T010000
END:STANDARD
BEGIN:DAYLIGHT
TZOFFSETFROM:+0100
TZOFFSETTO:+0200
TZNAME:CEST
DTSTART:20270328T010000
END:DAYLIGHT
BEGIN:STANDARD
TZOFFSETFROM:+0200
TZOFFSETTO:+0100
TZNAME:CET
DTSTART:20271031T010000
END:STANDARD
END:VTIMEZONE
BEGIN:VEVENT
DTSTART;TZID=Europe/Berlin:20260402T160000
DTEND;TZID=Europe/Berlin:20260402T220000
DTSTAMP:20260419T222149
CREATED:20260311T022045Z
LAST-MODIFIED:20260311T022045Z
UID:10004417-1775145600-1775167200@www.laga-wittenberge.de
SUMMARY:Familien-Osterspaß & Osterfeuer
DESCRIPTION:Am Gründonnerstag vor Ostern\, den 02.April 2026 \, sind Sie wieder herzlich zum Familien-Osterspaß mit Osterfeuer in den Amtshof in Wittstock/Dosse eingeladen.  \nAn unterschiedlichen Stationen werden ab 16 Uhr vielfältige Bewegungs-\, Geschicklichkeits- und Bastelangebote stattfinden\, an denen die Kinder und ihre Familien gemeinsam verweilen und Spaß haben können.  \nDurch die Unterstützung verschiedener lokaler Akteure verspricht es\, ein bunter Nachmittag zu werden. \nUm 19 Uhr wird das große Osterfeuer entzündet. Ein DJ wird die Veranstaltung bis zum Ende um 22 Uhr musikalisch begleiten. \nEin Cateringangebot sorgt für Getränke und warme Verpflegung vor Ort.  \nWir freuen uns auf Ihren Besuch! \nKontakt\nKulturmanagement Wittstock \nTel.: +49 03394 – 429 556\nE-Mail: s.wacker@stadt-wittstock.de
URL:https://www.laga-wittenberge.de/event/familien-osterspass-osterfeuer/
LOCATION:Amtshof  Wittstock\, Auf der Freiheit 10\, Wittstock/Dosse\, 16909
CATEGORIES:Fest / Brauchtum
ATTACH;FMTTYPE=image/jpeg:https://www.laga-wittenberge.de/wp-content/uploads/2026/01/item_1102082_pic_1_orig.jpg
END:VEVENT
END:VCALENDAR