BEGIN:VCALENDAR
VERSION:2.0
PRODID:-//LAGA Wittenberge 2027 - ECPv6.15.20//NONSGML v1.0//EN
CALSCALE:GREGORIAN
METHOD:PUBLISH
X-WR-CALNAME:LAGA Wittenberge 2027
X-ORIGINAL-URL:https://www.laga-wittenberge.de
X-WR-CALDESC:Veranstaltungen für LAGA Wittenberge 2027
REFRESH-INTERVAL;VALUE=DURATION:PT1H
X-Robots-Tag:noindex
X-PUBLISHED-TTL:PT1H
BEGIN:VTIMEZONE
TZID:Europe/Berlin
BEGIN:DAYLIGHT
TZOFFSETFROM:+0100
TZOFFSETTO:+0200
TZNAME:CEST
DTSTART:20250330T010000
END:DAYLIGHT
BEGIN:STANDARD
TZOFFSETFROM:+0200
TZOFFSETTO:+0100
TZNAME:CET
DTSTART:20251026T010000
END:STANDARD
BEGIN:DAYLIGHT
TZOFFSETFROM:+0100
TZOFFSETTO:+0200
TZNAME:CEST
DTSTART:20260329T010000
END:DAYLIGHT
BEGIN:STANDARD
TZOFFSETFROM:+0200
TZOFFSETTO:+0100
TZNAME:CET
DTSTART:20261025T010000
END:STANDARD
BEGIN:DAYLIGHT
TZOFFSETFROM:+0100
TZOFFSETTO:+0200
TZNAME:CEST
DTSTART:20270328T010000
END:DAYLIGHT
BEGIN:STANDARD
TZOFFSETFROM:+0200
TZOFFSETTO:+0100
TZNAME:CET
DTSTART:20271031T010000
END:STANDARD
END:VTIMEZONE
BEGIN:VEVENT
DTSTART;TZID=Europe/Berlin:20260926T130000
DTEND;TZID=Europe/Berlin:20260926T170000
DTSTAMP:20260421T134039
CREATED:20260311T022131Z
LAST-MODIFIED:20260311T022131Z
UID:10004182-1790427600-1790442000@www.laga-wittenberge.de
SUMMARY:Hengstparaden
DESCRIPTION:Reset Production\n				\n		\n\nDas Highlight im jährlichen Veranstaltungskalender sind die traditionellen Hengstparaden. Im September laden wir Sie ein\, die faszinierende Welt der Pferdezucht hautnah zu erleben und einen abwechslungsreichen Tag mit der ganzen Familie zu verbringen. Die Hengstparaden stehen nicht nur für Eleganz und Tradition\, sondern veranschaulichen als Markenzeichen der deutschen Landgestüte auch eindrucksvoll die Fortschritte moderner Pferdezucht und die vielseitigen Aufgaben eines Zucht- und Ausbildungsbetriebs. \nIm Mittelpunkt des Programms stehen beeindruckende Schaubilder \, die sowohl Pferdefreunde als auch Züchter begeistern. Anspruchsvolle Reitvorstellungen\, die Kunst des Gespannfahrens\, temperamentvolle Hengste\, edle Stuten und ausgelassene Fohlen locken jährlich zahlreiche Besucher zu den Hengstparaden nach Neustadt (Dosse). \nDie über 230-jährige Tradition des Gestüts wird durch die große Dressurquadrille auf besondere Weise lebendig. Die Reiter tragen historische Uniformen der preußischen Regimenter – Garde du Corps\, Zieten-Husaren\, Dragoner und Ulanen – und entführen die Zuschauer in eine längst vergangene Zeit. Gleichzeitig richten wir den Blick auch in die Zukunft: Unsere Junghengste und die Fohlen des Jahrgangs repräsentieren die nächste Generation und stehen für die kontinuierliche Weiterentwicklung der Pferdezucht. Natürlich dürfen auch die Neustädter Vererber \, die Väter des züchterischen Erfolgs\, nicht fehlen. Sie treten mit kraftvollen und eleganten Auftritten ins Rampenlicht und erobern die Herzen der Zuschauer. Der größte Schatz des Gestüts – die Zuchtstuten – präsentiert sich in verschiedenen Anspannungen vor wertvollen Kutschen unserer historischen Sammlung. \nWer es akrobatisch mag\, darf die Voltigierer nicht verpassen. Mit spektakulären Figuren und beeindruckender Körperbeherrschung zeigen sie\, wie viel Balance\, Teamgeist und Mut es braucht. Auch das Projekt “Reiten in der Schule” wird durch eine große Quadrille vorgestellt. \nSpannend wird es bei der Springquadrille \, bei der Präzision und Teamarbeit auf höchstem Niveau demonstriert wird. Und zum Abschluss wird es noch einmal spektakulär: Die Römerwagen donnern mit atemberaubender Geschwindigkeit über den Platz und sorgen mit rasanten Kurven für Gänsehaut und echte Action \nBevor die rund vierstündige Hengstparade beginnt\, haben alle Besucher die Gelegenheit\, bei einem Spaziergang über das weitläufige Gestütsgelände einen Blick hinter die Kulissen zu werfen. Entdecken Sie die beeindruckenden Stallungen\, die geschichtsträchtigen Gebäude und die malerische Umgebung\, die das Landgestüt Neustadt (Dosse) so besonders machen. Damit auch die kleinen Gäste auf ihre Kosten kommen\, haben wir ein eigenes Kinderland eingerichtet. \nFür das leibliche Wohl ist selbstverständlich ebenfalls gesorgt. Regionale Gastronomen bieten eine Auswahl an Speisen und Getränken\, die Ihren Besuch abrunden und für kleine und große Genussmomente sorgen. \nPetrus scheint ein Pferdefreund zu sein\, denn meist haben wir zu den Hengstparaden Glück mit dem Wetter. Falls es doch einmal regnen sollte\, sind unsere Tribünen überdacht. \nKontakt\nStiftung Brandenburgisches Haupt- und Landgestüt \nTel.: +49 33970 50290\nE-Mail: info@neustaedter-gestuete.de
URL:https://www.laga-wittenberge.de/event/hengstparaden-3/
LOCATION:Brandenburgisches Haupt- und Landgestüt\, Hauptgestüt 10\, Neustadt (Dosse)\, 16845
CATEGORIES:Theater / Tanz / Kabarett
ATTACH;FMTTYPE=image/jpeg:https://www.laga-wittenberge.de/wp-content/uploads/2025/12/item_1092979_pic_1_orig.jpg
END:VEVENT
BEGIN:VEVENT
DTSTART;TZID=Europe/Berlin:20261010T200000
DTEND;TZID=Europe/Berlin:20261010T221500
DTSTAMP:20260421T134039
CREATED:20260311T022135Z
LAST-MODIFIED:20260311T022135Z
UID:10004540-1791662400-1791670500@www.laga-wittenberge.de
SUMMARY:Wigald Boning und Bernhard Hoëcker - Gute Frage!
DESCRIPTION:Reset Production\n				\n		\n\nWenn Wigald Boning und Bernhard Hoëcker gemeinsam auf die Bühne kommen\, geht es um… gute Frage. Statt festem Programm setzen die beiden auf grenzenlose Neugier – ohne Text\, ohne doppelten Boden\, scheinbar ohne Konzept\, aber mit viel Witz und Verstand. \nWas passiert\, bestimmen die Zuschauer: Sie stellen die Fragen\, Wigald und Bernhard liefern die Antworten. Ob Fernseherlebnisse\, Hobbys\, Marotten oder die Frage nach einem Flug zum Mars – das Duo beleuchtet jedes Thema aus allen Perspektiven\, analysiert\, improvisiert und staunt dabei nicht selten über sich selbst. \nJeder Abend ist einzigartig\, denn jede Frage ist neu. Spontan\, klug und herrlich unterhaltsam zeigen die beiden „Schlauberger“\, was passiert\, wenn Neugier auf Schlagfertigkeit trifft. Das Einzige\, was sie mitbringen\, ist eine Uhr – sonst würden sie vermutlich ewig erzählen. \nKontakt\nTouristinformation Wittenberge \nTel.: +49 3877 929181\nE-Mail: touristinfo@kfh-wbge.de
URL:https://www.laga-wittenberge.de/event/wigald-boning-und-bernhard-hoecker-gute-frage/
LOCATION:Kultur- und Festspielhaus Wittenberge\, Paul-Lincke-Platz 1\, Wittenberge\, 19322
CATEGORIES:Theater / Tanz / Kabarett
ATTACH;FMTTYPE=image/jpeg:https://www.laga-wittenberge.de/wp-content/uploads/2026/02/item_1104917_pic_1_orig.jpg
END:VEVENT
BEGIN:VEVENT
DTSTART;TZID=Europe/Berlin:20261014T200000
DTEND;TZID=Europe/Berlin:20261014T221500
DTSTAMP:20260421T134039
CREATED:20260311T022135Z
LAST-MODIFIED:20260311T022135Z
UID:10004541-1792008000-1792016100@www.laga-wittenberge.de
SUMMARY:Mathias Richling-  Real Reality
DESCRIPTION:Reset Production\n				\n		\n\nMit seinem neuen Soloprogramm „KI – Keine Identität“ widmet sich Mathias Richling der widersprüchlichen Welt der künstlichen Intelligenz. Zwischen Chatbots mit Feingefühl\, digitaler Doppelmoral und der Frage nach unserer eigenen Identität zeigt er: Die größte Verwirrung entsteht nicht im Algorithmus\, sondern im Menschen selbst. \nMit scharfem Witz\, präziser Beobachtung und literarischem Anspruch seziert Richling Tech-Gläubigkeit\, Datenschutzpanik und Selbstoptimierungswahn. Dabei parodiert er Politik und Gesellschaft mit minimalen Gesten\, veränderter Stimme und beeindruckender Wandlungsfähigkeit – von Kritikern gefeiert als einer der besten Parodisten Deutschlands. Regie führt Günter Verdin. \nEin rasanter\, kluger und hochaktueller Kabarettabend – für alle\, die über KI lachen wollen\, bevor sie es über uns tut. \nKontakt\nTouristinformation Wittenberge \nTel.: +49 3877 929181\nE-Mail: touristinfo@kfh-wbge.de
URL:https://www.laga-wittenberge.de/event/mathias-richling-real-reality/
LOCATION:Kultur- und Festspielhaus Wittenberge\, Paul-Lincke-Platz 1\, Wittenberge\, 19322
CATEGORIES:Theater / Tanz / Kabarett
ATTACH;FMTTYPE=image/jpeg:https://www.laga-wittenberge.de/wp-content/uploads/2026/02/item_1106262_pic_1_orig.jpg
END:VEVENT
BEGIN:VEVENT
DTSTART;TZID=Europe/Berlin:20261017T200000
DTEND;TZID=Europe/Berlin:20261017T223000
DTSTAMP:20260421T134039
CREATED:20260311T022135Z
LAST-MODIFIED:20260311T022136Z
UID:10004542-1792267200-1792276200@www.laga-wittenberge.de
SUMMARY:Rock The Circus - Musik für die Augen
DESCRIPTION:Reset Production\n				\n		\n\nDie pulsierende Energie eines Rockkonzerts trifft auf spektakuläre Weltklasse-Artistik: ROCK THE CIRCUS geht erneut auf große Deutschlandtournee. Die Erfolgsshow vereint atemberaubende Akrobatik mit kraftvoller Live-Rockmusik – rasant\, emotional und mitreißend. \nSeit der Premiere 2018 begeistert das Konzept von Reset Production Publikum und Kritiker gleichermaßen. Eine sechsköpfige Live-Band interpretiert legendäre Hits von AC/DC\, Bon Jovi\, Guns N’ Roses\, Pink Floyd\, Queen\, Red Hot Chili Peppers und vielen weiteren Rockgrößen. \nInternationale Akrobaten verschmelzen ihre artistischen Höchstleistungen mit den größten Hymnen und Balladen aus 50 Jahren Rockgeschichte. Perfekt abgestimmte Choreografien\, magische Momente und echtes Konzert-Feeling sorgen für ein außergewöhnliches Show-Erlebnis. \nROCK THE CIRCUS – wenn Rock und Zirkus zu einer explosiven Einheit werden. \nKontakt\nTouristinformation Wittenberge \nTel.: +49 3877 929181\nE-Mail: touristinfo@kfh-wbge.de
URL:https://www.laga-wittenberge.de/event/rock-the-circus-musik-fuer-die-augen/
LOCATION:Kultur- und Festspielhaus Wittenberge\, Paul-Lincke-Platz 1\, Wittenberge\, 19322
CATEGORIES:Theater / Tanz / Kabarett
ATTACH;FMTTYPE=image/jpeg:https://www.laga-wittenberge.de/wp-content/uploads/2026/02/item_1106267_pic_1_orig.jpg
END:VEVENT
BEGIN:VEVENT
DTSTART;TZID=Europe/Berlin:20261024T200000
DTEND;TZID=Europe/Berlin:20261024T221500
DTSTAMP:20260421T134039
CREATED:20260311T022137Z
LAST-MODIFIED:20260311T022137Z
UID:10004516-1792872000-1792880100@www.laga-wittenberge.de
SUMMARY:Elton & The Joels - The Music Of Elton John & Billy Joel
DESCRIPTION:Reset Production\n				\n		\n\nThe Music of Elton John & Billy Joel vereint die größten Hits zweier Pop-Giganten in einer mitreißenden Tribute-Show. Unter dem Motto „Just the Way They Are“ bringt Pianist und Sänger Bastian Korn die Musik der legendären Piano-Men live auf die Bühne. \nGemeinsam mit seiner exzellenten Band präsentiert er Hit auf Hit – von „Crocodile Rock“\, „I’m Still Standing“ und „Honky Cat“ bis „Piano Man“ und „Uptown Girl“. Seit über 30 Jahren begeistert Korn europaweit mit seinem virtuosen Pianospiel und seiner energiegeladenen Performance. \nMit schrägen Kostümen\, markanten Brillen und spannenden Anekdoten führt er charmant durch einen Abend voller Klassiker der 70er\, 80er und 90er Jahre. Eine professionelle Live-Show\, die das musikalische Erbe von Elton John und Billy Joel feiert – emotional\, kraftvoll und absolut mitreißend. \nKontakt\nTouristinformation Wittenberge \nTel.: +49 3877 929181\nE-Mail: touristinfo@kfh-wbge.de
URL:https://www.laga-wittenberge.de/event/elton-the-joels-the-music-of-elton-john-billy-joel/
LOCATION:Kultur- und Festspielhaus Wittenberge\, Paul-Lincke-Platz 1\, Wittenberge\, 19322
CATEGORIES:Theater / Tanz / Kabarett
ATTACH;FMTTYPE=image/jpeg:https://www.laga-wittenberge.de/wp-content/uploads/2026/02/item_1104922_pic_1_orig.jpg
END:VEVENT
BEGIN:VEVENT
DTSTART;TZID=Europe/Berlin:20261106T200000
DTEND;TZID=Europe/Berlin:20261106T221500
DTSTAMP:20260421T134039
CREATED:20260311T022137Z
LAST-MODIFIED:20260311T022137Z
UID:10004543-1793995200-1794003300@www.laga-wittenberge.de
SUMMARY:Die Schlagzeugmafia - Backstreet Noise
DESCRIPTION:Reset Production\n				\n		\n\nEine getrommelte Gangster-Satire voller Überraschungen: In ihrem abendfüllenden Showformat macht die Schlagzeugmafia das Publikum zum Zeugen – und Komplizen. Fünf Mafiosi\, fünf Schlagzeuger\, doch jeder will den Takt angeben. Kein Wunder\, dass im „Familienbetrieb“ nicht alles reibungslos läuft. \nZwischen Tarnung als Pizzabäcker\, wilden Verfolgungsjagden auf Trommeln und plötzlich erlöschendem Licht entspinnt sich ein rasantes Spektakel aus Rhythmus\, Comedy und Action. \nMit handwerklichem Können\, Tempo und verblüffendem Ideenreichtum begeistert „Backstreet Noise“ Generationen. Die vielfach ausgezeichnete Truppe erhielt u. a. den Kleinkunstpreis Baden-Württemberg\, stand im Finale von RTLs „Die Puppenstars“ und war bei „Goldener Kamera“ und „Echo“ zu erleben. \nRhythmus\, Witz und Showpower – hier schlägt das Verbrechen im Takt. \nKontakt\nTouristinformation Wittenberge \nTel.: +49 3877 929181\nE-Mail: touristinfo@kfh-wbge.de
URL:https://www.laga-wittenberge.de/event/die-schlagzeugmafia-backstreet-noise/
LOCATION:Kultur- und Festspielhaus Wittenberge\, Paul-Lincke-Platz 1\, Wittenberge\, 19322
CATEGORIES:Theater / Tanz / Kabarett
ATTACH;FMTTYPE=image/jpeg:https://www.laga-wittenberge.de/wp-content/uploads/2026/02/item_1106275_pic_1_orig.jpg
END:VEVENT
BEGIN:VEVENT
DTSTART;TZID=Europe/Berlin:20261114T190000
DTEND;TZID=Europe/Berlin:20261114T210000
DTSTAMP:20260421T134039
CREATED:20260311T022137Z
LAST-MODIFIED:20260311T022138Z
UID:10004570-1794682800-1794690000@www.laga-wittenberge.de
SUMMARY:Der SAGO SONG SALON – Echte Lieder\, echte Menschen!
DESCRIPTION:Reset Production\n				\n		\n\nVergessen Sie klassische Konzerte\, starre Opernabende oder reine Comedy. Der Sago Song Salon präsentiert die Art Kleinkunst\, die Herz und Verstand gleichermaßen berührt. \nDie beiden Gastgeber Sebastian Krämer und Matthias Binner – Meister ihres Fachs – laden zu einer musikalischen Entdeckungsreise ein. Unterstützt werden sie an diesem Abend von den wunderbaren Gästen Timo Brunke und Bastian Bandt.Sie erwartet ein lebendiger Mix aus Chanson\, meisterhafter Liedkunst und spontanen Geschichten. Ob am Klavier\, an der Gitarre oder im mehrstimmigen Gesang – hier wird nicht einfach nur ein Programm abgespult. Die Künstler musizieren einzeln und gemeinsam\, reagieren intuitiv auf das Publikum und lassen jeden Moment einzigartig werden. \nEs wird ein Abend für Genießer: locker\, nahbar und voller handgemachter Musik\, die mal zum Schmunzeln und mal zum Nachdenken anregt. \nKontakt\nArtHotel Kiebitzberg® \nTel.:\nE-Mail: arthotel@kiebitzberg.de
URL:https://www.laga-wittenberge.de/event/der-sago-song-salon-echte-lieder-echte-menschen-3/
LOCATION:ARTHOTEL Kiebitzberg\, Schönberger Weg 6\, Havelberg\, 39539
CATEGORIES:Theater / Tanz / Kabarett
ATTACH;FMTTYPE=image/jpeg:https://www.laga-wittenberge.de/wp-content/uploads/2026/02/item_1106491_pic_1_orig.jpg
END:VEVENT
BEGIN:VEVENT
DTSTART;TZID=Europe/Berlin:20261202T160000
DTEND;TZID=Europe/Berlin:20261202T193000
DTSTAMP:20260421T134039
CREATED:20260311T022137Z
LAST-MODIFIED:20260311T022138Z
UID:10004546-1796227200-1796239800@www.laga-wittenberge.de
SUMMARY:Sternenzauber - Die Weihnachtstour 2026 - mit Julia Lindholm\, Linda Hesse\, Wolfgang Ziegler und Wolfgang Lippert
DESCRIPTION:Reset Production\n				\n		\n\nDie große Schlager-Weihnacht macht wieder Station in Wittenberge. Mit dabei sind Julia Lindholm\, Linda Hesse\, Wolfgang Ziegler und Wolfgang Lippert\, die das Publikum mit einem rund dreistündigen Programm aus ihren größten Hits und stimmungsvollen Weihnachtsliedern begeistern. \nNach dem Erfolg der vergangenen Jahre sorgt die Tour auch in Wittenberge erneut für festliche Atmosphäre. Freuen Sie sich auf bekannte Melodien\, gefühlvolle Balladen und weihnachtliche Klassiker – präsentiert von vier beliebten Stars der Schlagerszene. \nEin Konzertabend voller Musik\, Emotionen und besinnlicher Momente – der perfekte Auftakt in die Weihnachtszeit. \nKontakt\nTouristinformation Wittenberge \nTel.: +49 3877 929181\nE-Mail: touristinfo@kfh-wbge.de
URL:https://www.laga-wittenberge.de/event/sternenzauber-die-weihnachtstour-2026-mit-julia-lindholm-linda-hesse-wolfgang-ziegler-und-wolfgang-lippert/
LOCATION:Kultur- und Festspielhaus Wittenberge\, Paul-Lincke-Platz 1\, Wittenberge\, 19322
CATEGORIES:Theater / Tanz / Kabarett
ATTACH;FMTTYPE=image/jpeg:https://www.laga-wittenberge.de/wp-content/uploads/2026/02/item_1104937_pic_1_orig.jpg
END:VEVENT
BEGIN:VEVENT
DTSTART;TZID=Europe/Berlin:20261204T140000
DTEND;TZID=Europe/Berlin:20261204T170000
DTSTAMP:20260421T134039
CREATED:20260311T022139Z
LAST-MODIFIED:20260311T022139Z
UID:10004186-1796392800-1796403600@www.laga-wittenberge.de
SUMMARY:Weihnachtsgala
DESCRIPTION:Reset Production\n				\n		\n\nWenn sich die besinnliche Jahreszeit über die Dächer legt\, dann ist es Zeit für die Neustädter Weihnachtsgala. Die märchenhafte Pferdeshow sorgt mit beeindruckenden Märchenbildern und klassischen Reitelementen zu stimmungsvoller Weihnachtsmusik bei Jung und Alt für leuchtende Augen und unvergessliche Momente. \nDie Neustädter Weihnachtsgala steht für Winter\, Wunder und Weihnachtszauber. Dabei verwandelt sich die Graf-von-Lindenau-Halle in eine vorweihnachtliche Manege mit Weihnachtsmarkt. Lassen Sie sich dieses Erlebnis nicht entgehen! \nKontakt\nBrandenburgisches Haupt- und Landgestüt \nTel.: +49 33970 5029533\nE-Mail: info@neustaedter-gestuete.de
URL:https://www.laga-wittenberge.de/event/weihnachtsgala/
LOCATION:Brandenburgisches Haupt- und Landgestüt\, Hauptgestüt 10\, Neustadt (Dosse)\, 16845
CATEGORIES:Theater / Tanz / Kabarett
ATTACH;FMTTYPE=image/jpeg:https://www.laga-wittenberge.de/wp-content/uploads/2025/12/item_1092990_pic_1_orig.jpg
END:VEVENT
BEGIN:VEVENT
DTSTART;TZID=Europe/Berlin:20261204T170000
DTEND;TZID=Europe/Berlin:20261204T200000
DTSTAMP:20260421T134039
CREATED:20260311T022139Z
LAST-MODIFIED:20260311T022139Z
UID:10004187-1796403600-1796414400@www.laga-wittenberge.de
SUMMARY:Weihnachtsgala
DESCRIPTION:Reset Production\n				\n		\n\nWenn sich die besinnliche Jahreszeit über die Dächer legt\, dann ist es Zeit für die Neustädter Weihnachtsgala. Die märchenhafte Pferdeshow sorgt mit beeindruckenden Märchenbildern und klassischen Reitelementen zu stimmungsvoller Weihnachtsmusik bei Jung und Alt für leuchtende Augen und unvergessliche Momente. \nDie Neustädter Weihnachtsgala steht für Winter\, Wunder und Weihnachtszauber. Dabei verwandelt sich die Graf-von-Lindenau-Halle in eine vorweihnachtliche Manege mit Weihnachtsmarkt. Lassen Sie sich dieses Erlebnis nicht entgehen! \nKontakt\nBrandenburgisches Haupt- und Landgestüt \nTel.: +49 33970 5029533\nE-Mail: info@neustaedter-gestuete.de
URL:https://www.laga-wittenberge.de/event/weihnachtsgala-2/
LOCATION:Brandenburgisches Haupt- und Landgestüt\, Hauptgestüt 10\, Neustadt (Dosse)\, 16845
CATEGORIES:Theater / Tanz / Kabarett
ATTACH;FMTTYPE=image/jpeg:https://www.laga-wittenberge.de/wp-content/uploads/2025/12/item_1092990_pic_1_orig.jpg
END:VEVENT
BEGIN:VEVENT
DTSTART;TZID=Europe/Berlin:20261205T140000
DTEND;TZID=Europe/Berlin:20261205T170000
DTSTAMP:20260421T134039
CREATED:20260311T022139Z
LAST-MODIFIED:20260311T022139Z
UID:10004188-1796479200-1796490000@www.laga-wittenberge.de
SUMMARY:Weihnachtsgala
DESCRIPTION:Reset Production\n				\n		\n\nWenn sich die besinnliche Jahreszeit über die Dächer legt\, dann ist es Zeit für die Neustädter Weihnachtsgala. Die märchenhafte Pferdeshow sorgt mit beeindruckenden Märchenbildern und klassischen Reitelementen zu stimmungsvoller Weihnachtsmusik bei Jung und Alt für leuchtende Augen und unvergessliche Momente. \nDie Neustädter Weihnachtsgala steht für Winter\, Wunder und Weihnachtszauber. Dabei verwandelt sich die Graf-von-Lindenau-Halle in eine vorweihnachtliche Manege mit Weihnachtsmarkt. Lassen Sie sich dieses Erlebnis nicht entgehen! \nKontakt\nBrandenburgisches Haupt- und Landgestüt \nTel.: +49 33970 5029533\nE-Mail: info@neustaedter-gestuete.de
URL:https://www.laga-wittenberge.de/event/weihnachtsgala-3/
LOCATION:Brandenburgisches Haupt- und Landgestüt\, Hauptgestüt 10\, Neustadt (Dosse)\, 16845
CATEGORIES:Theater / Tanz / Kabarett
ATTACH;FMTTYPE=image/jpeg:https://www.laga-wittenberge.de/wp-content/uploads/2025/12/item_1092990_pic_1_orig.jpg
END:VEVENT
BEGIN:VEVENT
DTSTART;TZID=Europe/Berlin:20261205T170000
DTEND;TZID=Europe/Berlin:20261205T200000
DTSTAMP:20260421T134039
CREATED:20260311T022139Z
LAST-MODIFIED:20260311T022139Z
UID:10004189-1796490000-1796500800@www.laga-wittenberge.de
SUMMARY:Weihnachtsgala
DESCRIPTION:Reset Production\n				\n		\n\nWenn sich die besinnliche Jahreszeit über die Dächer legt\, dann ist es Zeit für die Neustädter Weihnachtsgala. Die märchenhafte Pferdeshow sorgt mit beeindruckenden Märchenbildern und klassischen Reitelementen zu stimmungsvoller Weihnachtsmusik bei Jung und Alt für leuchtende Augen und unvergessliche Momente. \nDie Neustädter Weihnachtsgala steht für Winter\, Wunder und Weihnachtszauber. Dabei verwandelt sich die Graf-von-Lindenau-Halle in eine vorweihnachtliche Manege mit Weihnachtsmarkt. Lassen Sie sich dieses Erlebnis nicht entgehen! \nKontakt\nBrandenburgisches Haupt- und Landgestüt \nTel.: +49 33970 5029533\nE-Mail: info@neustaedter-gestuete.de
URL:https://www.laga-wittenberge.de/event/weihnachtsgala-4/
LOCATION:Brandenburgisches Haupt- und Landgestüt\, Hauptgestüt 10\, Neustadt (Dosse)\, 16845
CATEGORIES:Theater / Tanz / Kabarett
ATTACH;FMTTYPE=image/jpeg:https://www.laga-wittenberge.de/wp-content/uploads/2025/12/item_1092990_pic_1_orig.jpg
END:VEVENT
BEGIN:VEVENT
DTSTART;TZID=Europe/Berlin:20261206T140000
DTEND;TZID=Europe/Berlin:20261206T170000
DTSTAMP:20260421T134039
CREATED:20260311T022139Z
LAST-MODIFIED:20260311T022140Z
UID:10004190-1796565600-1796576400@www.laga-wittenberge.de
SUMMARY:Weihnachtsgala
DESCRIPTION:Reset Production\n				\n		\n\nWenn sich die besinnliche Jahreszeit über die Dächer legt\, dann ist es Zeit für die Neustädter Weihnachtsgala. Die märchenhafte Pferdeshow sorgt mit beeindruckenden Märchenbildern und klassischen Reitelementen zu stimmungsvoller Weihnachtsmusik bei Jung und Alt für leuchtende Augen und unvergessliche Momente. \nDie Neustädter Weihnachtsgala steht für Winter\, Wunder und Weihnachtszauber. Dabei verwandelt sich die Graf-von-Lindenau-Halle in eine vorweihnachtliche Manege mit Weihnachtsmarkt. Lassen Sie sich dieses Erlebnis nicht entgehen! \nKontakt\nBrandenburgisches Haupt- und Landgestüt \nTel.: +49 33970 5029533\nE-Mail: info@neustaedter-gestuete.de
URL:https://www.laga-wittenberge.de/event/weihnachtsgala-5/
LOCATION:Brandenburgisches Haupt- und Landgestüt\, Hauptgestüt 10\, Neustadt (Dosse)\, 16845
CATEGORIES:Theater / Tanz / Kabarett
ATTACH;FMTTYPE=image/jpeg:https://www.laga-wittenberge.de/wp-content/uploads/2025/12/item_1092990_pic_1_orig.jpg
END:VEVENT
BEGIN:VEVENT
DTSTART;TZID=Europe/Berlin:20261206T170000
DTEND;TZID=Europe/Berlin:20261206T200000
DTSTAMP:20260421T134039
CREATED:20260311T022139Z
LAST-MODIFIED:20260311T022140Z
UID:10004191-1796576400-1796587200@www.laga-wittenberge.de
SUMMARY:Weihnachtsgala
DESCRIPTION:Reset Production\n				\n		\n\nWenn sich die besinnliche Jahreszeit über die Dächer legt\, dann ist es Zeit für die Neustädter Weihnachtsgala. Die märchenhafte Pferdeshow sorgt mit beeindruckenden Märchenbildern und klassischen Reitelementen zu stimmungsvoller Weihnachtsmusik bei Jung und Alt für leuchtende Augen und unvergessliche Momente. \nDie Neustädter Weihnachtsgala steht für Winter\, Wunder und Weihnachtszauber. Dabei verwandelt sich die Graf-von-Lindenau-Halle in eine vorweihnachtliche Manege mit Weihnachtsmarkt. Lassen Sie sich dieses Erlebnis nicht entgehen! \nKontakt\nBrandenburgisches Haupt- und Landgestüt \nTel.: +49 33970 5029533\nE-Mail: info@neustaedter-gestuete.de
URL:https://www.laga-wittenberge.de/event/weihnachtsgala-6/
LOCATION:Brandenburgisches Haupt- und Landgestüt\, Hauptgestüt 10\, Neustadt (Dosse)\, 16845
CATEGORIES:Theater / Tanz / Kabarett
ATTACH;FMTTYPE=image/jpeg:https://www.laga-wittenberge.de/wp-content/uploads/2025/12/item_1092990_pic_1_orig.jpg
END:VEVENT
BEGIN:VEVENT
DTSTART;TZID=Europe/Berlin:20261220T160000
DTEND;TZID=Europe/Berlin:20261220T170000
DTSTAMP:20260421T134039
CREATED:20260311T022141Z
LAST-MODIFIED:20260311T022142Z
UID:10004384-1797782400-1797786000@www.laga-wittenberge.de
SUMMARY:Abendstern und Friedensengel
DESCRIPTION:Reset Production\n				\n		\n\nEin Märchen für die Advents- und Weihnachtszeit\nMusik: Andreas Schmidt | Text: Sigrid Lampe-Densky\nSprecherin: Annemarie Schulze | Orgel: KMD Michael Schulze \nKontakt\nKultur- und Tourismusbüro Kyritz an der Knatter \nTel.: +49 33971 85255\nE-Mail: tourismus@kyritz.de
URL:https://www.laga-wittenberge.de/event/abendstern-und-friedensengel/
LOCATION:St. Marienkirche Kyritz\, Johann-Sebastian-Bach-Straße  51\, Kyritz\, 16866
CATEGORIES:Theater / Tanz / Kabarett
ATTACH;FMTTYPE=image/jpeg:https://www.laga-wittenberge.de/wp-content/uploads/2026/01/item_1101157_pic_1_orig.jpg
END:VEVENT
END:VCALENDAR