BEGIN:VCALENDAR
VERSION:2.0
PRODID:-//LAGA Wittenberge 2027 - ECPv6.15.20//NONSGML v1.0//EN
CALSCALE:GREGORIAN
METHOD:PUBLISH
X-WR-CALNAME:LAGA Wittenberge 2027
X-ORIGINAL-URL:https://www.laga-wittenberge.de
X-WR-CALDESC:Veranstaltungen für LAGA Wittenberge 2027
REFRESH-INTERVAL;VALUE=DURATION:PT1H
X-Robots-Tag:noindex
X-PUBLISHED-TTL:PT1H
BEGIN:VTIMEZONE
TZID:Europe/Berlin
BEGIN:DAYLIGHT
TZOFFSETFROM:+0100
TZOFFSETTO:+0200
TZNAME:CEST
DTSTART:20250330T010000
END:DAYLIGHT
BEGIN:STANDARD
TZOFFSETFROM:+0200
TZOFFSETTO:+0100
TZNAME:CET
DTSTART:20251026T010000
END:STANDARD
BEGIN:DAYLIGHT
TZOFFSETFROM:+0100
TZOFFSETTO:+0200
TZNAME:CEST
DTSTART:20260329T010000
END:DAYLIGHT
BEGIN:STANDARD
TZOFFSETFROM:+0200
TZOFFSETTO:+0100
TZNAME:CET
DTSTART:20261025T010000
END:STANDARD
BEGIN:DAYLIGHT
TZOFFSETFROM:+0100
TZOFFSETTO:+0200
TZNAME:CEST
DTSTART:20270328T010000
END:DAYLIGHT
BEGIN:STANDARD
TZOFFSETFROM:+0200
TZOFFSETTO:+0100
TZNAME:CET
DTSTART:20271031T010000
END:STANDARD
END:VTIMEZONE
BEGIN:VEVENT
DTSTART;TZID=Europe/Berlin:20260425T080000
DTEND;TZID=Europe/Berlin:20260426T020000
DTSTAMP:20260421T174131
CREATED:20260317T034208Z
LAST-MODIFIED:20260317T034208Z
UID:10004599-1777104000-1777168800@www.laga-wittenberge.de
SUMMARY:Anradeln in der Prignitz
DESCRIPTION:Clara Schwindt / Biosphärenreservat Flusslandschaft Elbe\n				\n		\n\nAm 25.April 2026 wird wieder angeradelt. Ziel ist dieses Jahr das Frühlingserwachen in Pritzwalk. \nZum 24ten Mal startet die Prignitz das traditionelle »Anradeln«. Diesmal geht es zum »Pritzwalker Frühlingserwachen«\, was ganz im Zeichen des 770. Stadtgeburtstages gefeiert wird. \nDie Sternfahrt ist längst ein jährliches Highlight im Veranstaltungskalender der Prignitz. Jahr für Jahr radeln mehr Einheimische und Gäste mit – ob sportlich ambitioniert oder ganz entspannt mit Familie und Freunden. Ziel ist es\, gemeinsam in die neue Radsaison zu starten\, die Vielfalt der Region zu erleben und die Kommunen untereinander zu verbinden.\nAnmeldungen ab sofort und ganz unkompliziert möglich!\nDie Heimfahrt wird individuell gestaltet\, da Pritzwalk im Anschluss zum Tanz auf dem Markt einlädt! \nKontakt\nJacqueline Fuhrmann \nTel.: +49 03876 30741925\nE-Mail: rad@dieprignitz.de
URL:https://www.laga-wittenberge.de/event/anradeln-in-der-prignitz/
LOCATION:Zielort Pritzwalk\, Marktplatz\, Pritzwalk\, 16928
CATEGORIES:Radtouren
ATTACH;FMTTYPE=image/jpeg:https://www.laga-wittenberge.de/wp-content/uploads/2026/03/item_1109183_pic_1_orig.jpg
END:VEVENT
BEGIN:VEVENT
DTSTART;TZID=Europe/Berlin:20260426T093000
DTEND;TZID=Europe/Berlin:20260426T210000
DTSTAMP:20260421T174131
CREATED:20260409T024004Z
LAST-MODIFIED:20260409T024004Z
UID:10004828-1777195800-1777237200@www.laga-wittenberge.de
SUMMARY:Geführte Radtour zum BiosphäreElbeMarkt in Dömitz
DESCRIPTION:Clara Schwindt / Biosphärenreservat Flusslandschaft Elbe\n				\n		\n\nDas Biosphärenreservat Flusslandschaft Elbe-Brandenburg lädt zu einer geführten Radtour von Mödlich zum länderübergreifenden BiosphäreElbeMarkt auf der Festung Dömitz ein. Begleitet wird die Tour von der zertifizierten Natur- und Landschaftsführerin Gertrud Rohloff-Hecker. Die rund 20 Kilometer lange Strecke dauert etwa zwei Stunden. \nDie Teilnehmenden erleben eine abwechslungsreiche Tour durch die Flusslandschaft mit naturnahen Abschnitten\, Auen und dem Grünen Band – einem bedeutenden Naturschutzprojekt. Dabei werden ökologische Besonderheiten sowie die Geschichte der ehemaligen Grenzregion vermittelt. \nAuf der Festung Dömitz erwartet die Gruppe der BiosphäreElbeMarkt mit regionalen Produkten aus nachhaltiger Erzeugung\, handwerklichen Angeboten und Mitmachaktionen für die ganze Familie. \nKontakt\nBiosphärenreservat Flusslandschaft Elbe-Brandeburg Verwaltung \nTel.: +49 038791 801815\nE-Mail: oliver.krause@lfu.brandenburg.de
URL:https://www.laga-wittenberge.de/event/gefuehrte-radtour-zum-biosphaereelbemarkt-in-doemitz/
LOCATION:Dorfkirche Mödlich\, Lenzener Str. 18A\, Lenzen (Elbe)\, 19309
CATEGORIES:Radtouren
ATTACH;FMTTYPE=image/jpeg:https://www.laga-wittenberge.de/wp-content/uploads/2026/04/item_1113271_pic_1_orig.jpg
END:VEVENT
END:VCALENDAR