BEGIN:VCALENDAR
VERSION:2.0
PRODID:-//LAGA Wittenberge 2027 - ECPv6.15.20//NONSGML v1.0//EN
CALSCALE:GREGORIAN
METHOD:PUBLISH
X-ORIGINAL-URL:https://www.laga-wittenberge.de
X-WR-CALDESC:Veranstaltungen für LAGA Wittenberge 2027
REFRESH-INTERVAL;VALUE=DURATION:PT1H
X-Robots-Tag:noindex
X-PUBLISHED-TTL:PT1H
BEGIN:VTIMEZONE
TZID:Europe/Berlin
BEGIN:DAYLIGHT
TZOFFSETFROM:+0100
TZOFFSETTO:+0200
TZNAME:CEST
DTSTART:20250330T010000
END:DAYLIGHT
BEGIN:STANDARD
TZOFFSETFROM:+0200
TZOFFSETTO:+0100
TZNAME:CET
DTSTART:20251026T010000
END:STANDARD
BEGIN:DAYLIGHT
TZOFFSETFROM:+0100
TZOFFSETTO:+0200
TZNAME:CEST
DTSTART:20260329T010000
END:DAYLIGHT
BEGIN:STANDARD
TZOFFSETFROM:+0200
TZOFFSETTO:+0100
TZNAME:CET
DTSTART:20261025T010000
END:STANDARD
BEGIN:DAYLIGHT
TZOFFSETFROM:+0100
TZOFFSETTO:+0200
TZNAME:CEST
DTSTART:20270328T010000
END:DAYLIGHT
BEGIN:STANDARD
TZOFFSETFROM:+0200
TZOFFSETTO:+0100
TZNAME:CET
DTSTART:20271031T010000
END:STANDARD
END:VTIMEZONE
BEGIN:VEVENT
DTSTART;TZID=Europe/Berlin:20260620T100000
DTEND;TZID=Europe/Berlin:20260620T143000
DTSTAMP:20260421T174533
CREATED:20260402T024213Z
LAST-MODIFIED:20260402T024213Z
UID:10004173-1781949600-1781965800@www.laga-wittenberge.de
SUMMARY:RangerTour: Vom kleinen Fluss an den großen Strom
DESCRIPTION:Ricarda Rath\n				\n		\n\nDie Landschaft der Elbe prägt die Region um Lenzen. Feuchtwiesen\, Moore\, Auwälder\, eine strukturreiche Feldflur aus alten Eichen\, artenreichen Hecken und einem kleinen Fluss. Die Löcknitz streift das beschauliche Städtchen\, schlängelt sich durch umliegende Dörfer und mündet im Mecklenburgischen Elbtal in die Elbe. Wir begleiten sie ein Stück ihres Weges\, staunen über schillernde Eisvögel\, durchfahren Alleen und weites Grünland\, bis wir in Mödlich die Elbe erreichen. Ein Wischedorf mit eindrucksvollen Hallenhäusern und herrlicher Auenlandschaft. Nach einer kurzen Pause geht es auf dem Deich zurück nach Lenzen. Begleitet von Vogelgesängen\, gaukelnden Faltern und dem großen Strom. Mit etwas Glück zieht der Seeadler seine Kreise. \nFernglas empfohlen. \nImbiss Einkehr möglich \nFahrradverleih: 038792 7516 \nAnmeldeschluss: 18.06.26 \nTeilnehmer*innen: 5 – 15 \nDiese Führung ist ein Angebot der "Ranger-und Erlebnistouren". \nKontakt\nNaturwacht Lenzen\nRicarda Rath\nTel.: +49 38792 1701\nE-Mail: lenzen@naturwacht.de
URL:https://www.laga-wittenberge.de/event/rangertour-vom-kleinen-fluss-an-den-grossen-strom/
LOCATION:Burg Lenzen\, Burgvorplatz\, Burgstraße 3\, Lenzen\, 19309
CATEGORIES:Lust auf NaTour
ATTACH;FMTTYPE=image/jpeg:https://www.laga-wittenberge.de/wp-content/uploads/2025/12/item_940448_pic_1_orig.jpg
END:VEVENT
END:VCALENDAR