BEGIN:VCALENDAR
VERSION:2.0
PRODID:-//LAGA Wittenberge 2027 - ECPv6.15.20//NONSGML v1.0//EN
CALSCALE:GREGORIAN
METHOD:PUBLISH
X-WR-CALNAME:LAGA Wittenberge 2027
X-ORIGINAL-URL:https://www.laga-wittenberge.de
X-WR-CALDESC:Veranstaltungen für LAGA Wittenberge 2027
REFRESH-INTERVAL;VALUE=DURATION:PT1H
X-Robots-Tag:noindex
X-PUBLISHED-TTL:PT1H
BEGIN:VTIMEZONE
TZID:Europe/Berlin
BEGIN:DAYLIGHT
TZOFFSETFROM:+0100
TZOFFSETTO:+0200
TZNAME:CEST
DTSTART:20250330T010000
END:DAYLIGHT
BEGIN:STANDARD
TZOFFSETFROM:+0200
TZOFFSETTO:+0100
TZNAME:CET
DTSTART:20251026T010000
END:STANDARD
BEGIN:DAYLIGHT
TZOFFSETFROM:+0100
TZOFFSETTO:+0200
TZNAME:CEST
DTSTART:20260329T010000
END:DAYLIGHT
BEGIN:STANDARD
TZOFFSETFROM:+0200
TZOFFSETTO:+0100
TZNAME:CET
DTSTART:20261025T010000
END:STANDARD
BEGIN:DAYLIGHT
TZOFFSETFROM:+0100
TZOFFSETTO:+0200
TZNAME:CEST
DTSTART:20270328T010000
END:DAYLIGHT
BEGIN:STANDARD
TZOFFSETFROM:+0200
TZOFFSETTO:+0100
TZNAME:CET
DTSTART:20271031T010000
END:STANDARD
END:VTIMEZONE
BEGIN:VEVENT
DTSTART;TZID=Europe/Berlin:20260322T100000
DTEND;TZID=Europe/Berlin:20260323T000000
DTSTAMP:20260419T210832
CREATED:20260311T022038Z
LAST-MODIFIED:20260311T022039Z
UID:10004295-1774173600-1774224000@www.laga-wittenberge.de
SUMMARY:Sonntagsbrunch im Klostergartenhotel Marienfließ
DESCRIPTION:Vincent Chmiel\n				\n		\n\nGenießen Sie einen entspannten Sonntag in besonderem Ambiente: Das Klostergartenhotel Marienfließ lädt herzlich zum Sonntagsbrunch ein. In historischer Atmosphäre erwartet Sie eine vielfältige Auswahl an liebevoll zubereiteten kalten und warmen Speisen – von frischen Backwaren und regionalen Spezialitäten bis hin zu herzhaften Klassikern und süßen Köstlichkeiten. \nLassen Sie sich kulinarisch verwöhnen\, genießen Sie aromatischen Kaffee\, Tee und ausgewählte Säfte und verbringen Sie wertvolle Zeit mit Familie und Freunden. Der Sonntagsbrunch im Klostergartenhotel Marienfließ verbindet Genuss\, Ruhe und Gastlichkeit – ideal für einen genussvollen Start in den Sonntag. \nWir freuen uns darauf\, Sie willkommen zu heißen! \nKontakt\nKlostergartenhotel Marienfließ \nTel.: +49 33969 207994\nE-Mail: info@klostergartenhotel.de
URL:https://www.laga-wittenberge.de/event/sonntagsbrunch-im-klostergartenhotel-marienfliess/
LOCATION:Klostergartenhotel Marienfließ\, Stift\, Haus 10
CATEGORIES:Essen und Trinken
ATTACH;FMTTYPE=image/jpeg:https://www.laga-wittenberge.de/wp-content/uploads/2026/03/item_1099670_pic_1_orig.jpg
END:VEVENT
END:VCALENDAR