BEGIN:VCALENDAR
VERSION:2.0
PRODID:-//LAGA Wittenberge 2027 - ECPv6.15.20//NONSGML v1.0//EN
CALSCALE:GREGORIAN
METHOD:PUBLISH
X-WR-CALNAME:LAGA Wittenberge 2027
X-ORIGINAL-URL:https://www.laga-wittenberge.de
X-WR-CALDESC:Veranstaltungen für LAGA Wittenberge 2027
REFRESH-INTERVAL;VALUE=DURATION:PT1H
X-Robots-Tag:noindex
X-PUBLISHED-TTL:PT1H
BEGIN:VTIMEZONE
TZID:Europe/Berlin
BEGIN:DAYLIGHT
TZOFFSETFROM:+0100
TZOFFSETTO:+0200
TZNAME:CEST
DTSTART:20250330T010000
END:DAYLIGHT
BEGIN:STANDARD
TZOFFSETFROM:+0200
TZOFFSETTO:+0100
TZNAME:CET
DTSTART:20251026T010000
END:STANDARD
BEGIN:DAYLIGHT
TZOFFSETFROM:+0100
TZOFFSETTO:+0200
TZNAME:CEST
DTSTART:20260329T010000
END:DAYLIGHT
BEGIN:STANDARD
TZOFFSETFROM:+0200
TZOFFSETTO:+0100
TZNAME:CET
DTSTART:20261025T010000
END:STANDARD
BEGIN:DAYLIGHT
TZOFFSETFROM:+0100
TZOFFSETTO:+0200
TZNAME:CEST
DTSTART:20270328T010000
END:DAYLIGHT
BEGIN:STANDARD
TZOFFSETFROM:+0200
TZOFFSETTO:+0100
TZNAME:CET
DTSTART:20271031T010000
END:STANDARD
END:VTIMEZONE
BEGIN:VEVENT
DTSTART;TZID=Europe/Berlin:20260422T100000
DTEND;TZID=Europe/Berlin:20260422T170000
DTSTAMP:20260419T222149
CREATED:20260328T034212Z
LAST-MODIFIED:20260328T034212Z
UID:10004731-1776852000-1776877200@www.laga-wittenberge.de
SUMMARY:Kunstausstellung "alpha*beten" im Prignitz-Museum Havelberg
DESCRIPTION:Verschriftungen von Micha Brendel \nDer bildende Künstler Micha Brendel begreift die Schrift als einen faszinierenden Kosmos. Diese jahrtausendealte Kulturtechnik zeitgenössisch zu durchdringen\, ist seit mehr als 10 Jahren wesentlicher Fokus seiner künstlerischen Arbeit. Brendel nennt seine in Serie entstehenden Blätter Verschriftungen. Dabei löst er die Schrift von ihren sprachlichen Codierungen. Nicht als Bedeutungsträger ist sie für ihn interessant\, sondern als bildliche Gestalt. Buchstaben treten verdreht\, gespiegelt\, frei erfunden auf; sie sind seriell angeordnet oder zu Zeichenklumpen gebündelt. Dem Wunsch\, die Zeichen zu entziffern\, widersetzen sich die Verschriftungen konsequent.\nBrendel zeigt seine Verschriftungen mit der Ausstellungsreihe „alpha*beten“ bewusst in Klöstern und Kirchen – dort also\, wo die Schrift in besonderer Weise historisch verwurzelt ist. Das Prignitz-Museum im ehemaligen Prämonstratenser Chorherrenstift ist hierfür ein überaus geeigneter Ort. \nGefördert durch die Kunststiftung Sachsen-Anhalt \nKontakt\nPrignitz-Museum \nTel.: +49 039387 21422\nE-Mail: prignitz-museum@gmx.de
URL:https://www.laga-wittenberge.de/event/kunstausstellung-alphabeten-im-prignitz-museum-havelberg-21/
LOCATION:Prignitz Museum am Dom Havelberg\, Domplatz  3\, Hansestadt Havelberg\, 39539
CATEGORIES:Ausstellung
ATTACH;FMTTYPE=image/jpeg:https://www.laga-wittenberge.de/wp-content/uploads/2026/03/item_1111922_pic_1_orig.jpg
END:VEVENT
BEGIN:VEVENT
DTSTART;TZID=Europe/Berlin:20260422T140000
DTEND;TZID=Europe/Berlin:20260422T180000
DTSTAMP:20260419T222149
CREATED:20260401T024209Z
LAST-MODIFIED:20260401T024209Z
UID:10004813-1776866400-1776880800@www.laga-wittenberge.de
SUMMARY:Denkmal\, Auto\, Straßenbau in alten europäischen Stadtkernen
DESCRIPTION:Vernissage & Podiumsdiskussion mit Dieter Hoffmann-Axthelm \n"Wie machen wir die Stadt lebendiger?" – so wird im Schaufenster des Stadtlabors gefragt. Lebendig ist die Stadt\, in deren Straßen\, auf deren Plätzen sich die Bewohner wohl fühlen\, wo sie sich Zeit nehmen\, um zu sehen und gesehen zu werden\, Freunde und Bekannte zu treffen\, einkaufen\, essen und trinken. Unsere kleine Ausstellung lenkt den Fokus auf einen dafür entscheidenden Faktor: Wie in altstädtischer Enge und inmitten denkmalwerter Häuser mit dem Verkehr umgegangen wird\, wie Straßen gebaut: und benutzt werden\, was sie freundlicher oder unfreundlicher macht. Das Thema ist in so vielen Altstädten quer durch Europa auf der Tagesordnung\, daß sich ein länderübergreifender Vergleich anbietet. Unsere Ausstellung kann natürlich nur eine kleine Auswahl bieten. \nSie versteht sich als Diskussionsangebot und lädt zur Diskussion ein. \nDieter Hoffmann-Axthelm´s Wirken hat bis in die Prignitz hinein durch seine lebenslange Leidenschaft für eine menschen- und lebenswürdigende Architektur ausgestrahlt. So zeigt sich sein Werk nicht nur am Wissenschaftsstandort Adlershof in Berlin\, dem Berliner Judenhof und vielen anderen Orten Berlins\, auch bspw. in Kassel\, sondern auch darin\, dass in Perleberg ein Projekt entstanden ist\, das den dortigen Judenhof\, den besterhaltenen in Deutschland\, im Rahmen des Kulturjahres Brandenburg 2005 der Öffentlichkeit präsentieren konnte. \nDie Ausstellung wird von Dienstag\, den 21. bis zum Sonntag\, den 26. April von 14 bis 18 Uhr geöffnet sein. \nZahlreiche Gäste und Spenden in den Hut sind willkommen! \nKontakt\nKulturkombinat Perleberg \nTel.: +49 3876 6061990\nE-Mail: kontakt@kulturkombinat-perleberg.org
URL:https://www.laga-wittenberge.de/event/denkmal-auto-strassenbau-in-alten-europaeischen-stadtkernen-2/
LOCATION:Kulturkombinat Perleberg\, Open Air im Hagen (Stadtpark)\, Perleberg\, 19348
CATEGORIES:Ausstellung
ATTACH;FMTTYPE=image/jpeg:https://www.laga-wittenberge.de/wp-content/uploads/2026/04/item_1112349_pic_1_orig.jpg
END:VEVENT
END:VCALENDAR