BEGIN:VCALENDAR
VERSION:2.0
PRODID:-//LAGA Wittenberge 2027 - ECPv6.15.20//NONSGML v1.0//EN
CALSCALE:GREGORIAN
METHOD:PUBLISH
X-WR-CALNAME:LAGA Wittenberge 2027
X-ORIGINAL-URL:https://www.laga-wittenberge.de
X-WR-CALDESC:Veranstaltungen für LAGA Wittenberge 2027
REFRESH-INTERVAL;VALUE=DURATION:PT1H
X-Robots-Tag:noindex
X-PUBLISHED-TTL:PT1H
BEGIN:VTIMEZONE
TZID:Europe/Berlin
BEGIN:DAYLIGHT
TZOFFSETFROM:+0100
TZOFFSETTO:+0200
TZNAME:CEST
DTSTART:20250330T010000
END:DAYLIGHT
BEGIN:STANDARD
TZOFFSETFROM:+0200
TZOFFSETTO:+0100
TZNAME:CET
DTSTART:20251026T010000
END:STANDARD
BEGIN:DAYLIGHT
TZOFFSETFROM:+0100
TZOFFSETTO:+0200
TZNAME:CEST
DTSTART:20260329T010000
END:DAYLIGHT
BEGIN:STANDARD
TZOFFSETFROM:+0200
TZOFFSETTO:+0100
TZNAME:CET
DTSTART:20261025T010000
END:STANDARD
BEGIN:DAYLIGHT
TZOFFSETFROM:+0100
TZOFFSETTO:+0200
TZNAME:CEST
DTSTART:20270328T010000
END:DAYLIGHT
BEGIN:STANDARD
TZOFFSETFROM:+0200
TZOFFSETTO:+0100
TZNAME:CET
DTSTART:20271031T010000
END:STANDARD
END:VTIMEZONE
BEGIN:VEVENT
DTSTART;TZID=Europe/Berlin:20260404T100000
DTEND;TZID=Europe/Berlin:20260404T170000
DTSTAMP:20260419T221958
CREATED:20260328T034209Z
LAST-MODIFIED:20260328T034209Z
UID:10004715-1775296800-1775322000@www.laga-wittenberge.de
SUMMARY:Kunstausstellung "alpha*beten" im Prignitz-Museum Havelberg
DESCRIPTION:Verschriftungen von Micha Brendel \nDer bildende Künstler Micha Brendel begreift die Schrift als einen faszinierenden Kosmos. Diese jahrtausendealte Kulturtechnik zeitgenössisch zu durchdringen\, ist seit mehr als 10 Jahren wesentlicher Fokus seiner künstlerischen Arbeit. Brendel nennt seine in Serie entstehenden Blätter Verschriftungen. Dabei löst er die Schrift von ihren sprachlichen Codierungen. Nicht als Bedeutungsträger ist sie für ihn interessant\, sondern als bildliche Gestalt. Buchstaben treten verdreht\, gespiegelt\, frei erfunden auf; sie sind seriell angeordnet oder zu Zeichenklumpen gebündelt. Dem Wunsch\, die Zeichen zu entziffern\, widersetzen sich die Verschriftungen konsequent.\nBrendel zeigt seine Verschriftungen mit der Ausstellungsreihe „alpha*beten“ bewusst in Klöstern und Kirchen – dort also\, wo die Schrift in besonderer Weise historisch verwurzelt ist. Das Prignitz-Museum im ehemaligen Prämonstratenser Chorherrenstift ist hierfür ein überaus geeigneter Ort. \nGefördert durch die Kunststiftung Sachsen-Anhalt \nKontakt\nPrignitz-Museum \nTel.: +49 039387 21422\nE-Mail: prignitz-museum@gmx.de
URL:https://www.laga-wittenberge.de/event/kunstausstellung-alphabeten-im-prignitz-museum-havelberg-6/
LOCATION:Prignitz Museum am Dom Havelberg\, Domplatz  3\, Hansestadt Havelberg\, 39539
CATEGORIES:Ausstellung
ATTACH;FMTTYPE=image/jpeg:https://www.laga-wittenberge.de/wp-content/uploads/2026/03/item_1111922_pic_1_orig.jpg
END:VEVENT
END:VCALENDAR