BEGIN:VCALENDAR
VERSION:2.0
PRODID:-//LAGA Wittenberge 2027 - ECPv6.15.20//NONSGML v1.0//EN
CALSCALE:GREGORIAN
METHOD:PUBLISH
X-ORIGINAL-URL:https://www.laga-wittenberge.de
X-WR-CALDESC:Veranstaltungen für LAGA Wittenberge 2027
REFRESH-INTERVAL;VALUE=DURATION:PT1H
X-Robots-Tag:noindex
X-PUBLISHED-TTL:PT1H
BEGIN:VTIMEZONE
TZID:Europe/Berlin
BEGIN:DAYLIGHT
TZOFFSETFROM:+0100
TZOFFSETTO:+0200
TZNAME:CEST
DTSTART:20250330T010000
END:DAYLIGHT
BEGIN:STANDARD
TZOFFSETFROM:+0200
TZOFFSETTO:+0100
TZNAME:CET
DTSTART:20251026T010000
END:STANDARD
BEGIN:DAYLIGHT
TZOFFSETFROM:+0100
TZOFFSETTO:+0200
TZNAME:CEST
DTSTART:20260329T010000
END:DAYLIGHT
BEGIN:STANDARD
TZOFFSETFROM:+0200
TZOFFSETTO:+0100
TZNAME:CET
DTSTART:20261025T010000
END:STANDARD
BEGIN:DAYLIGHT
TZOFFSETFROM:+0100
TZOFFSETTO:+0200
TZNAME:CEST
DTSTART:20270328T010000
END:DAYLIGHT
BEGIN:STANDARD
TZOFFSETFROM:+0200
TZOFFSETTO:+0100
TZNAME:CET
DTSTART:20271031T010000
END:STANDARD
END:VTIMEZONE
BEGIN:VEVENT
DTSTART;TZID=Europe/Berlin:20260327T100000
DTEND;TZID=Europe/Berlin:20260327T170000
DTSTAMP:20260419T160146
CREATED:20260311T022040Z
LAST-MODIFIED:20260311T022041Z
UID:10004506-1774605600-1774630800@www.laga-wittenberge.de
SUMMARY:Fotoausstellung "Ordnung und Chaos" in der Galerie Alter Laden
DESCRIPTION:Der Kulturverein Wusterhausen e.V. lädt ein zur Ausstellung der Fotogruppe “GroßeKlasse” der JKS Neuruppin\nWusterhausen/Dosse – Ordnung und Chaos\nVernissage am Freitag\, 27. Februar\num 19 Uhr in der Galerie Alter Laden \nKontakt\nKulturverein Wusterhausen e.V. \nTel.:\nE-Mail:
URL:https://www.laga-wittenberge.de/event/fotoausstellung-ordnung-und-chaos-in-der-galerie-alter-laden-17/
LOCATION:Galerie Alter Laden\, Am Markt 3\, Wusterhausen/Dosse\, 16868
CATEGORIES:Ausstellung
END:VEVENT
BEGIN:VEVENT
DTSTART;TZID=Europe/Berlin:20260327T100000
DTEND;TZID=Europe/Berlin:20260327T170000
DTSTAMP:20260419T160146
CREATED:20260410T024205Z
LAST-MODIFIED:20260410T024205Z
UID:10004270-1774605600-1774630800@www.laga-wittenberge.de
SUMMARY:Sonderausstellung: "Ein Thron aus Kamerun - Die Abenteuer des Dr. Ipscher"
DESCRIPTION:Sonderausstellung des Wegemuseums bis 31.03.2026  \nDas Wegemuseum bewahrt den Nachlass des in Wusterhausen gebürtigen Militärarztes Dr. Georg Ipscher\, der 1900 bis 1902 in Kamerun als Kolonialarzt der kaiserlichen Schutztruppe tätig war und ab 1922 bis zu seinem Tod 1935 wieder in seiner Geburtsstadt praktizierte. Rund 50 Fotos aus Kamerun\, ein für ihn angefertigter geschnitzter Thron und Dokumente werden in der Sonderausstellung des Wegemuseums präsentiert. \nDie Ausstellung ist ein Projekt im Rahmen von »Welten verbinden – Kulturland Brandenburg 2024/2025« und wird gefördert durch das Ministerium für Wissenschaft\, Forschung und Kultur sowie das Ministerium für Infrastruktur und Landesplanung des Landes Brandenburg und unterstützt durch die brandenburgischen Sparkassen und die Investitionsbank des Landes Brandenburg. \nKontakt\nTouristinformation im Herbst´schen Haus / Wegemuseum Wusterhausen \nTel.: +49 33979 87760\nE-Mail: info@wegemuseum.de
URL:https://www.laga-wittenberge.de/event/sonderausstellung-ein-thron-aus-kamerun-die-abenteuer-des-dr-ipscher-11/
LOCATION:Wegemuseum Wusterhausen/Dosse\, Am Markt 3\, Wusterhausen/Dosse\, 16868
CATEGORIES:Ausstellung
END:VEVENT
END:VCALENDAR